BEGIN:VCALENDAR
VERSION:2.0
PRODID:-//Weinig Experience//experience.weinig.com//DE
CALSCALE:GREGORIAN
BEGIN:VEVENT
DTSTART;VALUE=DATE:20240910
DTEND;VALUE=DATE:20240914
DTSTAMP:20260422T130846
SUMMARY:Drema 2024
URL;VALUE=URI:https://experience.weinig.com/veranstaltungen/drema-2024
DESCRIPTION:https://experience.weinig.com/veranstaltungen/drema-2024
UID:20260422T130846-20240910-20240914
END:VEVENT
END:VCALENDAR