BEGIN:VCALENDAR
VERSION:2.0
PRODID:-//Weinig Experience//experience.weinig.com//DE
CALSCALE:GREGORIAN
BEGIN:VEVENT
DTSTART;VALUE=DATE:20260324
DTEND;VALUE=DATE:20260328
DTSTAMP:20260422T143849
SUMMARY:HOLZ-HANDWERK
URL;VALUE=URI:https://experience.weinig.com/en/events/holz-handwerk-2026-holz-her
DESCRIPTION:https://experience.weinig.com/en/events/holz-handwerk-2026-holz-her
UID:20260422T143849-20260324-20260328
END:VEVENT
END:VCALENDAR